BEGIN:VCALENDAR
PRODID:-//github.com/rianjs/ical.net//NONSGML ical.net 4.0//EN
VERSION:2.0
BEGIN:VEVENT
DESCRIPTION:Bis zur Umstellung der Sommerzeit\, Ende Oktober\, starten wir
  jeden Dienstag um 18 Uhr vom Hildegardplatz in Kempten zu einer kleinen 
 Feierabendrunde. Wir freuen uns über alte und neue Teilnehmer.\nhttps://t
 ouren-termine.adfc.de/radveranstaltung/98221-feierabendradeln
DTEND:20230919T180000Z
DTSTAMP:20260424T144858Z
DTSTART:20230919T160000Z
LOCATION:Hildegardplatz\, 87435 Kempten (Allgäu)
SEQUENCE:0
SUMMARY:Feierabendradeln
UID:2ddb8eb0-d661-4a5d-b4c9-5ed5f2e8330a
URL:https://touren-termine.adfc.de/radveranstaltung/98221-feierabendradeln
END:VEVENT
END:VCALENDAR
