BEGIN:VCALENDAR
PRODID:-//github.com/rianjs/ical.net//NONSGML ical.net 4.0//EN
VERSION:2.0
BEGIN:VEVENT
DESCRIPTION:Wer mithelfen möchte\, die Radfahrsituation in Korschenbroich 
 verbessern\, ist hier genau richtig!\nhttps://touren-termine.adfc.de/radv
 eranstaltung/160863-arbeitskreis-mobilitat-und-sicherheit
DTEND:20250410T183000Z
DTSTAMP:20260423T151801Z
DTSTART:20250410T163000Z
LOCATION: Gymnasium Korschenbroich\, Eingang Borrenstraße\, Korschenbroich
  41352\, 41352 Korschenbroich
SEQUENCE:0
SUMMARY:Arbeitskreis Mobilität und Sicherheit
UID:5a891c21-1d18-45d3-a1c0-7a02ebfd4055
URL:https://touren-termine.adfc.de/radveranstaltung/160863-arbeitskreis-mo
 bilitat-und-sicherheit
END:VEVENT
END:VCALENDAR
