BEGIN:VCALENDAR
PRODID:-//github.com/rianjs/ical.net//NONSGML ical.net 4.0//EN
VERSION:2.0
BEGIN:VEVENT
DESCRIPTION:ca. 65 km\, 16-18 km/h\, Start: Pavillon Schmölderpark\, 26.04
 .2025\, 10:00 Uhr. Von Rheydt über Insel Hombroich entlang der Erft nach 
 Grimlinghausen (Einkehrmöglichkeit) und zurück nach Rheydt.\nhttps://tour
 en-termine.adfc.de/radveranstaltung/156529-rheydt-insel-hombroich-grimlin
 ghausen-rheydt
DTEND:20250426T140000Z
DTSTAMP:20260420T231747Z
DTSTART:20250426T080000Z
LOCATION:Schmölderstraße\, 41239 Mönchengladbach
SEQUENCE:0
SUMMARY:Rheydt - Insel Hombroich - Grimlinghausen - Rheydt
UID:4aec207f-2582-47d9-9b24-0d966f1471ef
URL:https://touren-termine.adfc.de/radveranstaltung/156529-rheydt-insel-ho
 mbroich-grimlinghausen-rheydt
END:VEVENT
END:VCALENDAR
