BEGIN:VCALENDAR
PRODID:-//github.com/rianjs/ical.net//NONSGML ical.net 4.0//EN
VERSION:2.0
BEGIN:VEVENT
DESCRIPTION:Rundkurs durch Lichterfelde und Lankwitz. Start und Ziel ist B
 hf. Lichterfelde Ost. In zwei Stunden zu Wissenswertem Neuen kommen und g
 gf. alte Geschichten hören. Jeder kann sich beteiligen.\nhttps://touren-t
 ermine.adfc.de/radveranstaltung/197962-kieztour-steglitzzehlendorf
DTEND:20260426T143000Z
DTSTAMP:20260424T045812Z
DTSTART:20260426T120000Z
LOCATION:Bhf. Lichterfelde Ost\, Ausgang Jungfernstieg\, 12207 Berlin
SEQUENCE:0
SUMMARY:Kieztour Steglitz-Zehlendorf
UID:d08ca4d5-67d4-4db8-aa5f-1a64cbe8dac2
URL:https://touren-termine.adfc.de/radveranstaltung/197962-kieztour-stegli
 tzzehlendorf
END:VEVENT
END:VCALENDAR
