BEGIN:VCALENDAR
PRODID:-//github.com/rianjs/ical.net//NONSGML ical.net 4.0//EN
VERSION:2.0
BEGIN:VEVENT
DESCRIPTION:Von Heiligensee nach Schwante und entlang der Mühlenseen Richt
 ung Oranienburg. Später am Oranienburger Kanal entlang über Birkenwerder 
 zum S-Bhf Heiligensee zurück.\nhttps://touren-termine.adfc.de/radveransta
 ltung/172344-ins-oberkramer-land
DTEND:20251005T160000Z
DTSTAMP:20260424T231105Z
DTSTART:20251005T080500Z
LOCATION:S-Bhf. Heiligensee\, Ausgang\, 13503 Berlin
SEQUENCE:0
SUMMARY:Ins Oberkrämer Land
UID:fff061ac-5114-4a9d-8315-f0a151b170f9
URL:https://touren-termine.adfc.de/radveranstaltung/172344-ins-oberkramer-
 land
END:VEVENT
END:VCALENDAR
