BEGIN:VCALENDAR
PRODID:-//github.com/rianjs/ical.net//NONSGML ical.net 4.0//EN
VERSION:2.0
BEGIN:VEVENT
DESCRIPTION:Einmal Hollerner See & zurück —natürlich mit Pause bei Hecht &
  Sonne\nhttps://touren-termine.adfc.de/radveranstaltung/161263-sonne-hech
 t
DTEND:20250521T190000Z
DTSTAMP:20260421T142201Z
DTSTART:20250521T160000Z
LOCATION:Bike & Ride Fahrradparkhaus\, 85221 Dachau
SEQUENCE:0
SUMMARY:Sonne & Hecht
UID:e3099b89-3227-41a6-b29b-87507ac009ef
URL:https://touren-termine.adfc.de/radveranstaltung/161263-sonne-hecht
END:VEVENT
END:VCALENDAR
