BEGIN:VCALENDAR
PRODID:-//github.com/rianjs/ical.net//NONSGML ical.net 4.0//EN
VERSION:2.0
BEGIN:VEVENT
DESCRIPTION:Auch 2026 setzen Radfahrende in Essen mit einer Fahrraddemo ei
 n Zeichen für ihre Sicherheit und fahren schweigend durch die Stadt und e
 rinnern an Radfahrer*innen\, die im Straßenverkehr getötet wurden.\nhttps
 ://touren-termine.adfc.de/radveranstaltung/189981-ride-of-silence-essen-2
 026
DTEND:20260520T193000Z
DTSTAMP:20260421T103217Z
DTSTART:20260520T170000Z
LOCATION:Hirschlandplatz\, 45127 Essen
SEQUENCE:0
SUMMARY:Ride of Silence Essen 2026
UID:fabf6b35-8c05-4b47-b4c4-3a5fd629b71a
URL:https://touren-termine.adfc.de/radveranstaltung/189981-ride-of-silence
 -essen-2026
END:VEVENT
END:VCALENDAR
