BEGIN:VCALENDAR
PRODID:-//github.com/rianjs/ical.net//NONSGML ical.net 4.0//EN
VERSION:2.0
BEGIN:VEVENT
DESCRIPTION:In Kaufbeuren! Mit komoot lassen sich Radtouren einfach und ko
 mfortabel planen. Workshop für Laptop + Android-Smartphone.\nZusatzkurs w
 g. großer Nachfrage! AUSGEBUCHT !\nhttps://touren-termine.adfc.de/radvera
 nstaltung/123495-fahrradnavigation-komoot-grundkurs-in-kf-voll
DTEND:20240321T200000Z
DTSTAMP:20260419T155842Z
DTSTART:20240321T170000Z
LOCATION:Buronstraße\, 87600 Kaufbeuren
SEQUENCE:0
SUMMARY:Fahrradnavigation Komoot - Grundkurs in KF\, voll
UID:b21d8444-40d8-42f4-8009-ddb547bcf635
URL:https://touren-termine.adfc.de/radveranstaltung/123495-fahrradnavigati
 on-komoot-grundkurs-in-kf-voll
END:VEVENT
END:VCALENDAR
