BEGIN:VCALENDAR
PRODID:-//github.com/rianjs/ical.net//NONSGML ical.net 4.0//EN
VERSION:2.0
BEGIN:VEVENT
DESCRIPTION:Fahrt zum Klassiker\, dem Bickbeernhof in Brokeloh.  Die Tour 
 führt uns über Nienbrügge\, Stadt Rehburg nach Brokeloh. Die Rückfahrt er
 folgt über Leese\, Loccum und Wiedensahl nach Stadthagen.\nhttps://touren
 -termine.adfc.de/radveranstaltung/178534-bickbeernhof-in-brokeloh
DTEND:20260719T160000Z
DTSTAMP:20260420T173749Z
DTSTART:20260719T070000Z
LOCATION:Marktplatz \,Marktbrunnen\, 31655 Stadthagen
SEQUENCE:0
SUMMARY:Bickbeernhof in Brokeloh
UID:bea8bb63-ab68-4cf5-9f7a-14d9ff9c7637
URL:https://touren-termine.adfc.de/radveranstaltung/178534-bickbeernhof-in
 -brokeloh
END:VEVENT
END:VCALENDAR
