BEGIN:VCALENDAR
PRODID:-//github.com/rianjs/ical.net//NONSGML ical.net 4.0//EN
VERSION:2.0
BEGIN:VEVENT
DESCRIPTION:Auch aus Essen wird es dieses Jahr wieder Zubringer nach Düsse
 ldorf zur großen ADFC Fahrrad-Sternfahrt NRW geben\nhttps://touren-termin
 e.adfc.de/radveranstaltung/180767-adfc-fahrradsternfahrt-nrw-2026-zubring
 er-essen
DTEND:20260503T150000Z
DTSTAMP:20260419T182054Z
DTSTART:20260503T073000Z
LOCATION:Essen (Innenstadt)\, Willy-Brandt-Platz\, 45127 Essen
SEQUENCE:0
SUMMARY:[ADFC Fahrrad-Sternfahrt NRW 2026] Zubringer Essen
UID:4fc3f333-279e-47cc-8c8b-8014abea8a46
URL:https://touren-termine.adfc.de/radveranstaltung/180767-adfc-fahrradste
 rnfahrt-nrw-2026-zubringer-essen
END:VEVENT
END:VCALENDAR
