BEGIN:VCALENDAR
PRODID:-//github.com/rianjs/ical.net//NONSGML ical.net 4.0//EN
VERSION:2.0
BEGIN:VEVENT
DESCRIPTION:Einfache Feierabend-Radtouren rund um Stadthagen. Jeder\, idea
 l auch für Einsteiger\, der ein verkehrssicheres Fahrrad besitzt und sich
  auf dem Fahrrad wohlfühlt\, kann gerne teilnehmen.\nhttps://touren-termi
 ne.adfc.de/radveranstaltung/178504-mittwochsradeln-rund-um-stadthagen
DTEND:20260819T190000Z
DTSTAMP:20260420T173919Z
DTSTART:20260819T160000Z
LOCATION:Marktplatz \,Marktbrunnen\, 31655 Stadthagen
SEQUENCE:0
SUMMARY:Mittwochsradeln rund um Stadthagen
UID:f595e3fb-4894-4223-a5bc-7b1cb4dd8d9e
URL:https://touren-termine.adfc.de/radveranstaltung/178504-mittwochsradeln
 -rund-um-stadthagen
END:VEVENT
END:VCALENDAR
