BEGIN:VCALENDAR
PRODID:-//github.com/rianjs/ical.net//NONSGML ical.net 4.0//EN
VERSION:2.0
BEGIN:VEVENT
DESCRIPTION:Von Feuerbach zur Schillerhöhe und weiter über Vaihingen und D
 egerloch nach Scharxnhausen\, von dort zum Neckar. und an diesem nach Bad
  Cannstatt.\nhttps://touren-termine.adfc.de/radveranstaltung/151812-von-f
 euerbach-uber-die-fildern-nach-bad-cannstatt
DTEND:20250316T160000Z
DTSTAMP:20260424T144240Z
DTSTART:20250316T090000Z
LOCATION:Wiener Platz\, 70469 Stuttgart
SEQUENCE:0
SUMMARY:Von Feuerbach über die Fildern nach Bad Cannstatt
UID:14c57f0f-306a-460d-8c47-fe83517d159c
URL:https://touren-termine.adfc.de/radveranstaltung/151812-von-feuerbach-u
 ber-die-fildern-nach-bad-cannstatt
END:VEVENT
END:VCALENDAR
