BEGIN:VCALENDAR
PRODID:-//github.com/rianjs/ical.net//NONSGML ical.net 4.0//EN
VERSION:2.0
BEGIN:VEVENT
DESCRIPTION:Verschiedene Geschwindigkeitsgruppen: Pättkes-Tour (15-18 km/h
 )\, Flotte Tour (18-21 km/h)\, Schnelle Tour (21-25 km/h).\nZiel und Rout
 e werden beim Start bekannt gegeben.\nhttps://touren-termine.adfc.de/radv
 eranstaltung/111755-feierabendtour-rund-um-coesfeld-mai-aug
DTEND:20240506T190000Z
DTSTAMP:20260419T232623Z
DTSTART:20240506T170000Z
LOCATION:Marktplatz\, 48653 Coesfeld
SEQUENCE:0
SUMMARY:Feierabendtour rund um Coesfeld: Mai - Aug
UID:2c556e38-3003-416b-97fe-295ec8ffcd0e
URL:https://touren-termine.adfc.de/radveranstaltung/111755-feierabendtour-
 rund-um-coesfeld-mai-aug
END:VEVENT
END:VCALENDAR
