BEGIN:VCALENDAR
PRODID:-//github.com/rianjs/ical.net//NONSGML ical.net 4.0//EN
VERSION:2.0
BEGIN:VEVENT
DESCRIPTION:Gemeinsam erkunden wir im gemächlichen Tempo die gar nicht meh
 r so neue Siegener Umweltspur.\nhttps://touren-termine.adfc.de/radveranst
 altung/141748-flanieren-auf-der-umweltspur
DTEND:20241105T183000Z
DTSTAMP:20260423T030953Z
DTSTART:20241105T170000Z
LOCATION:Jakob-Scheiner-Platz\, 57072 Siegen
SEQUENCE:0
SUMMARY:Flanieren auf der Umweltspur
UID:4654462c-d4da-403c-9efc-e004bf848b6e
URL:https://touren-termine.adfc.de/radveranstaltung/141748-flanieren-auf-d
 er-umweltspur
END:VEVENT
END:VCALENDAR
