BEGIN:VCALENDAR
PRODID:-//github.com/rianjs/ical.net//NONSGML ical.net 4.0//EN
VERSION:2.0
BEGIN:VEVENT
DESCRIPTION:Ein kurzer Blick für die freie Fahrt in die Fahrradsaison - la
 ss' dein Rad checken!\nhttps://touren-termine.adfc.de/radveranstaltung/19
 5323-fahrradsicherheitscheck-bei-flomio
DTEND:20260321T140000Z
DTSTAMP:20260421T100752Z
DTSTART:20260321T100000Z
LOCATION:Papenstraße 5\, 28195 Bremen
SEQUENCE:0
SUMMARY:Fahrrad-Sicherheitscheck bei Flomio
UID:c3d32a49-a114-40dd-9cef-33471eb7a738
URL:https://touren-termine.adfc.de/radveranstaltung/195323-fahrradsicherhe
 itscheck-bei-flomio
END:VEVENT
END:VCALENDAR
