BEGIN:VCALENDAR
PRODID:-//github.com/rianjs/ical.net//NONSGML ical.net 4.0//EN
VERSION:2.0
BEGIN:VEVENT
DESCRIPTION:Fahrrad-Demonstration für einen sicheren Radweg auf der Marien
 felder Allee.\nDer ADFC Tempelhof setzt sich zusammen mit weiteren Akteur
 en für sicheren Verkehr in Marienfelde ein.\nhttps://touren-termine.adfc.
 de/radveranstaltung/158552-wir-wollen-sicheren-verkehr-in-marienfelde
DTEND:20250505T163000Z
DTSTAMP:20260424T050302Z
DTSTART:20250505T150000Z
LOCATION:Marienfelder Allee/Ecke Stegerwaldstraße\, 12277 Berlin
SEQUENCE:0
SUMMARY:Wir wollen sicheren Verkehr in Marienfelde
UID:e404787b-f87c-4616-be6e-51fffa162ac0
URL:https://touren-termine.adfc.de/radveranstaltung/158552-wir-wollen-sich
 eren-verkehr-in-marienfelde
END:VEVENT
END:VCALENDAR
