BEGIN:VCALENDAR
PRODID:-//github.com/rianjs/ical.net//NONSGML ical.net 4.0//EN
VERSION:2.0
BEGIN:VEVENT
DESCRIPTION:Auf abgelegenen Wald- und Feldwegen fahren wir über Buchendorf
  und Wangen zum Gasthof Manthaler im Lüßbachtal. Mit Anmeldung (online)!\
 nhttps://touren-termine.adfc.de/radveranstaltung/154416-manthaler
DTEND:20250629T160000Z
DTSTAMP:20260425T145934Z
DTSTART:20250629T083000Z
LOCATION:Marktplatz\, 82205 Gilching
SEQUENCE:0
SUMMARY:Manthaler
UID:3cf1fa8e-45ce-4eed-a390-9fea8bbd8ad0
URL:https://touren-termine.adfc.de/radveranstaltung/154416-manthaler
END:VEVENT
END:VCALENDAR
