BEGIN:VCALENDAR
PRODID:-//github.com/rianjs/ical.net//NONSGML ical.net 4.0//EN
VERSION:2.0
BEGIN:VEVENT
DESCRIPTION:Wir fahren durch die Wilstermarsch nach Wilster zur Windschöpf
 mühle Honigfleth und zur Windmühle Aurora\, auch Rumflether Windmühle gen
 annt.\nhttps://touren-termine.adfc.de/radveranstaltung/198459-radtour-am-
 muhlentag-nach-wilster
DTEND:20260525T140000Z
DTSTAMP:20260421T005518Z
DTSTART:20260525T090000Z
LOCATION:Draisine\, 25524 Itzehoe
SEQUENCE:0
SUMMARY:Radtour am Mühlentag nach Wilster
UID:e0881366-f1c1-4e38-97b8-aaaa4fd38961
URL:https://touren-termine.adfc.de/radveranstaltung/198459-radtour-am-muhl
 entag-nach-wilster
END:VEVENT
END:VCALENDAR
