BEGIN:VCALENDAR
PRODID:-//github.com/rianjs/ical.net//NONSGML ical.net 4.0//EN
VERSION:2.0
BEGIN:VEVENT
DESCRIPTION:Bis zur Umstellung der Sommerzeit\, Ende Oktober\, starten wir
  jeden Dienstag um 18 Uhr vom Hildegardplatz in Kempten zu einer kleinen 
 Feierabendrunde. Wir freuen uns über alte und neue Teilnehmer.\nhttps://t
 ouren-termine.adfc.de/radveranstaltung/98208-feierabendradeln
DTEND:20230620T180000Z
DTSTAMP:20260424T144842Z
DTSTART:20230620T160000Z
LOCATION:Hildegardplatz\, 87435 Kempten (Allgäu)
SEQUENCE:0
SUMMARY:Feierabendradeln
UID:bd2e097c-a2f0-46b1-8273-8414ffa70c9b
URL:https://touren-termine.adfc.de/radveranstaltung/98208-feierabendradeln
END:VEVENT
END:VCALENDAR
