BEGIN:VCALENDAR
PRODID:-//github.com/rianjs/ical.net//NONSGML ical.net 4.0//EN
VERSION:2.0
BEGIN:VEVENT
DESCRIPTION:Die Tour geht nach Kirchveischede. Nur für im Wald versierte e
 -Bikefahrer. Teilnehmerbeschränkung auf 3 Mitradelnde. Mittagseinkehr im 
 Gasthof Suerlänner Eck. Anmeldepflicht bis Freitag 6.10.23 17.00.\nhttps:
 //touren-termine.adfc.de/radveranstaltung/107722-explorationstour-suerlan
 ner-eck-nur-ebike
DTEND:20231008T150000Z
DTSTAMP:20260422T234813Z
DTSTART:20231008T080000Z
LOCATION:Marburger Straße 6\, Roter Platz\, 57223 Kreuztal
SEQUENCE:0
SUMMARY:Explorationstour Suerlänner Eck (nur e-Bike)
UID:6038b0b1-b6b5-4c55-91dd-ea5588fabec0
URL:https://touren-termine.adfc.de/radveranstaltung/107722-explorationstou
 r-suerlanner-eck-nur-ebike
END:VEVENT
END:VCALENDAR
