BEGIN:VCALENDAR
PRODID:-//github.com/rianjs/ical.net//NONSGML ical.net 4.0//EN
VERSION:2.0
BEGIN:VEVENT
DESCRIPTION:Am vierten Freitag im Monat steht unsere Ausfahrt unter dem Mo
 tto Sichtbarkeit des Radverkehrs\, Sicherheitsmängel und Schwächen der Ro
 utenführung und Beschilderung\nhttps://touren-termine.adfc.de/radveransta
 ltung/161202-kritische-tour-in-der-kernstadt-bad-berleburg
DTEND:20250328T160000Z
DTSTAMP:20260423T065431Z
DTSTART:20250328T150000Z
LOCATION:Unterm Höllscheid\, 57319 Bad Berleburg
SEQUENCE:0
SUMMARY:Kritische Tour - In der Kernstadt Bad Berleburg
UID:6c748551-e82c-437c-b79a-471151975ed9
URL:https://touren-termine.adfc.de/radveranstaltung/161202-kritische-tour-
 in-der-kernstadt-bad-berleburg
END:VEVENT
END:VCALENDAR
