BEGIN:VCALENDAR
PRODID:-//github.com/rianjs/ical.net//NONSGML ical.net 4.0//EN
VERSION:2.0
BEGIN:VEVENT
DESCRIPTION:International Cycling Film Festival - ICFF\, Das Fahrrad im Ku
 rzfilm\, Gernot Mühge\nhttps://touren-termine.adfc.de/radveranstaltung/19
 0238-international-cycling-film-festival-icff
DTEND:20260404T200000Z
DTSTAMP:20260421T190540Z
DTSTART:20260404T170000Z
LOCATION:Gebläsehalle im LWL-Museum Henrichshütte\, Werksstraße 31-33\, 45
 527 Hattingen
SEQUENCE:0
SUMMARY:International Cycling Film Festival - ICFF
UID:91f7d02e-2ca2-44d9-9142-c9c279353a32
URL:https://touren-termine.adfc.de/radveranstaltung/190238-international-c
 ycling-film-festival-icff
END:VEVENT
END:VCALENDAR
