BEGIN:VCALENDAR
PRODID:-//github.com/rianjs/ical.net//NONSGML ical.net 4.0//EN
VERSION:2.0
BEGIN:VEVENT
DESCRIPTION:Mehr Sicherheit für den Radverkehr durch StVO konforme Seitena
 bstände beim Überholen durch Kraftfahrzeuge\nhttps://touren-termine.adfc.
 de/radveranstaltung/150480-projektgruppe-openbikesensor
DTEND:20250310T173000Z
DTSTAMP:20260420T231416Z
DTSTART:20250310T173000Z
LOCATION:Koppel 34-36\, 20099 Hamburg
SEQUENCE:0
SUMMARY:Projektgruppe OpenBikeSensor
UID:40739d3a-2da0-4e58-a4f8-dc858da65269
URL:https://touren-termine.adfc.de/radveranstaltung/150480-projektgruppe-o
 penbikesensor
END:VEVENT
END:VCALENDAR
