BEGIN:VCALENDAR
PRODID:-//github.com/rianjs/ical.net//NONSGML ical.net 4.0//EN
VERSION:2.0
BEGIN:VEVENT
DESCRIPTION:Radlertreff im Glossner Bräustübl\nhttps://touren-termine.adfc
 .de/radveranstaltung/169584-radlertreff
DTEND:20250829T200000Z
DTSTAMP:20260425T021617Z
DTSTART:20250829T170000Z
LOCATION:Glossner Bräustübl\, Schwesterhausgasse 9\, 92318 Neumarkt in der
  Oberpfalz
SEQUENCE:0
SUMMARY:Radlertreff
UID:953570f4-4da0-47b7-b3dd-605eb0b1ff8a
URL:https://touren-termine.adfc.de/radveranstaltung/169584-radlertreff
END:VEVENT
END:VCALENDAR
