BEGIN:VCALENDAR
PRODID:-//github.com/rianjs/ical.net//NONSGML ical.net 4.0//EN
VERSION:2.0
BEGIN:VEVENT
DESCRIPTION:Eine vom ADFC geführte Radtour führt uns in gemütlichem Tempo 
 auf einen Rundkurs von ca. 30 km in die nähere Umgebung von Oldenburg.\nh
 ttps://touren-termine.adfc.de/radveranstaltung/195507-gemutliche-feierabe
 ndtour-am-dienstag
DTEND:20260721T183000Z
DTSTAMP:20260421T082521Z
DTSTART:20260721T160000Z
LOCATION:Stau\, 26135 Oldenburg
SEQUENCE:0
SUMMARY:Gemütliche Feierabendtour am Dienstag
UID:71498052-11e5-491d-974b-c558aa5bb41c
URL:https://touren-termine.adfc.de/radveranstaltung/195507-gemutliche-feie
 rabendtour-am-dienstag
END:VEVENT
END:VCALENDAR
