BEGIN:VCALENDAR
PRODID:-//github.com/rianjs/ical.net//NONSGML ical.net 4.0//EN
VERSION:2.0
BEGIN:VEVENT
DESCRIPTION:Gebrauchtfahrrädermarkt\nhttps://touren-termine.adfc.de/radver
 anstaltung/158144-5-fahrradbasar-am-dillmanngymnasium
DTEND:20250322T120000Z
DTSTAMP:20260424T175752Z
DTSTART:20250322T080000Z
LOCATION:Forststraße 43\, 70176 Stuttgart
SEQUENCE:0
SUMMARY:5. Fahrradbasar am Dillmann-Gymnasium
UID:f8f709e7-6783-4108-8611-f65cde0d6cb8
URL:https://touren-termine.adfc.de/radveranstaltung/158144-5-fahrradbasar-
 am-dillmanngymnasium
END:VEVENT
END:VCALENDAR
