BEGIN:VCALENDAR
PRODID:-//github.com/rianjs/ical.net//NONSGML ical.net 4.0//EN
VERSION:2.0
BEGIN:VEVENT
DESCRIPTION:Wir touren von Brauerei zu Brauerei\, um am Schluss im Gasthof
  Augustin in Schwabthal zu landen\; Anmeldung zwingend erforderlich (mome
 ntan ausgebucht!)\nhttps://touren-termine.adfc.de/radveranstaltung/125024
 -brauereitour-franken-tag-1
DTEND:20240803T170000Z
DTSTAMP:20260421T100715Z
DTSTART:20240803T091500Z
LOCATION:Brennerstraße\, 96052 Bamberg
SEQUENCE:0
SUMMARY:Brauereitour Franken (Tag 1)
UID:c6ceba49-98f4-4de7-8f51-0c493df2cf34
URL:https://touren-termine.adfc.de/radveranstaltung/125024-brauereitour-fr
 anken-tag-1
END:VEVENT
END:VCALENDAR
