BEGIN:VCALENDAR
PRODID:-//github.com/rianjs/ical.net//NONSGML ical.net 4.0//EN
VERSION:2.0
BEGIN:VEVENT
DESCRIPTION:Wir stricken uns die Fahrradstadt - Mobilität ist nicht männli
 ch! Der Blick von FLINTA auf die Verkehrswende ist in der Stadtplanung un
 terrepräsentiert. Wir wollen das ändern!\nhttps://touren-termine.adfc.de/
 radveranstaltung/156094-cyclistaclub
DTEND:20250317T201500Z
DTSTAMP:20260420T231347Z
DTSTART:20250317T180000Z
LOCATION:Geschäftsstelle ADFC Hamburg\, Koppel 34-36\, 20099 Hamburg\, St.
  Georg
SEQUENCE:0
SUMMARY:Cyclista*Club
UID:708bfb94-9990-4536-a709-6babcc057d17
URL:https://touren-termine.adfc.de/radveranstaltung/156094-cyclistaclub
END:VEVENT
END:VCALENDAR
