BEGIN:VCALENDAR
PRODID:-//github.com/rianjs/ical.net//NONSGML ical.net 4.0//EN
VERSION:2.0
BEGIN:VEVENT
DESCRIPTION:>>> Achtung! Auf Samstag\, 12.7.\, vorverlegt!!!! Auf 29 km ei
 n Mal um Hannover drum herum: Sehr schöne Radtour\nhttps://touren-termine
 .adfc.de/radveranstaltung/165120-runde-um-hannover-juliustripring-
DTEND:20250712T160000Z
DTSTAMP:20260424T173224Z
DTSTART:20250712T110000Z
LOCATION:ADFC-Radtour-Startplatz: "Zwischen Post und Rathaus". - Marktplat
 z 1\, 30853 Langenhagen
SEQUENCE:0
SUMMARY:Runde um Hannover: "Julius-Trip-Ring" ⓇⓈ
UID:31b167d1-1e01-4fcc-b3f3-67613076593c
URL:https://touren-termine.adfc.de/radveranstaltung/165120-runde-um-hannov
 er-juliustripring-
END:VEVENT
END:VCALENDAR
