BEGIN:VCALENDAR
PRODID:-//github.com/rianjs/ical.net//NONSGML ical.net 4.0//EN
VERSION:2.0
BEGIN:VEVENT
DESCRIPTION:Entspannte Nachmittagstour ab Neustadt zu einem Winzerhof\nhtt
 ps://touren-termine.adfc.de/radveranstaltung/149366-nachmittagstour-ab-ne
 ustadt-zu-einem-winzerhof
DTEND:20250913T160000Z
DTSTAMP:20260425T173534Z
DTSTART:20250913T120000Z
LOCATION:Festplatzstraße 7\, 67433 Neustadt an der Weinstraße
SEQUENCE:0
SUMMARY:Nachmittagstour ab Neustadt zu einem Winzerhof
UID:32f94a6b-5f5b-4024-8fc7-849ac4f17e53
URL:https://touren-termine.adfc.de/radveranstaltung/149366-nachmittagstour
 -ab-neustadt-zu-einem-winzerhof
END:VEVENT
END:VCALENDAR
