BEGIN:VCALENDAR
PRODID:-//github.com/rianjs/ical.net//NONSGML ical.net 4.0//EN
VERSION:2.0
BEGIN:VEVENT
DESCRIPTION:Wöchentliche freitags Radtouren der ADFC Ortsgruppe Hattingen\
 nhttps://touren-termine.adfc.de/radveranstaltung/190032-auf-ins-wochenend
 e
DTEND:20260828T160000Z
DTSTAMP:20260421T204145Z
DTSTART:20260828T130000Z
LOCATION:Parkplatz Holschentor\, Talstraße 8\, 45525 Hattingen
SEQUENCE:0
SUMMARY:Auf ins Wochenende
UID:359346a8-62b1-4875-9a43-f8fc623c8218
URL:https://touren-termine.adfc.de/radveranstaltung/190032-auf-ins-wochene
 nde
END:VEVENT
END:VCALENDAR
