BEGIN:VCALENDAR
PRODID:-//github.com/rianjs/ical.net//NONSGML ical.net 4.0//EN
VERSION:2.0
BEGIN:VEVENT
DESCRIPTION:Mehr Sicherheit für den Radverkehr durch StVO konforme Seitena
 bstände beim Überholen durch Kraftfahrzeuge\nhttps://touren-termine.adfc.
 de/radveranstaltung/117246-projektgruppe-openbikesensor
DTEND:20241014T180000Z
DTSTAMP:20260420T230628Z
DTSTART:20241014T163000Z
LOCATION:Koppel 34-36\, 20099 Hamburg
SEQUENCE:0
SUMMARY:Projektgruppe OpenBikeSensor
UID:30651473-bed2-4508-a6b8-803292b19124
URL:https://touren-termine.adfc.de/radveranstaltung/117246-projektgruppe-o
 penbikesensor
END:VEVENT
END:VCALENDAR
