BEGIN:VCALENDAR
PRODID:-//github.com/rianjs/ical.net//NONSGML ical.net 4.0//EN
VERSION:2.0
BEGIN:VEVENT
DESCRIPTION: Ein Berlin für Alle! Gemeinsam auf die Straße gegen die Kürzu
 ngspolitik des Senats!\nhttps://touren-termine.adfc.de/radveranstaltung/1
 46443-unkurzbar-demonstration
DTEND:20241215T140000Z
DTSTAMP:20260421T233125Z
DTSTART:20241215T120000Z
LOCATION:Lustgarten\, Museumsinsel\, 10178 Berlin
SEQUENCE:0
SUMMARY:Unkürzbar! Demonstration
UID:6544946f-c6a2-46b7-99bc-9d7c75586772
URL:https://touren-termine.adfc.de/radveranstaltung/146443-unkurzbar-demon
 stration
END:VEVENT
END:VCALENDAR
