BEGIN:VCALENDAR
PRODID:-//github.com/rianjs/ical.net//NONSGML ical.net 4.0//EN
VERSION:2.0
BEGIN:VEVENT
DESCRIPTION:für unsere Öffentlichkeitsarbeit\nhttps://touren-termine.adfc.
 de/radveranstaltung/190700-team-infostand-offenes-treffen
DTEND:20260507T163000Z
DTSTAMP:20260422T113929Z
DTSTART:20260507T150000Z
LOCATION:Fahrrad Info Zentrum - FIZ (Siemensstraße 46)\, 40227 Düsseldorf
SEQUENCE:0
SUMMARY:Team Infostand - offenes Treffen
UID:38f77287-a10b-4273-a67e-426e28e9af46
URL:https://touren-termine.adfc.de/radveranstaltung/190700-team-infostand-
 offenes-treffen
END:VEVENT
END:VCALENDAR
