BEGIN:VCALENDAR
PRODID:-//github.com/rianjs/ical.net//NONSGML ical.net 4.0//EN
VERSION:2.0
BEGIN:VEVENT
DESCRIPTION:Dieses Online Event bietet eine Übersicht über die Möglichkeit
 en und Instrumente der Mobilitätswende für Kommunen in Baden-Württemberg.
 \nhttps://touren-termine.adfc.de/radveranstaltung/105696-wie-kommt-die-mo
 bilitatswende-in-die-kommunen
DTEND:20230928T100000Z
DTSTAMP:20260424T120104Z
DTSTART:20230928T070000Z
LOCATION:Online Event\, 70197 Stuttgart
SEQUENCE:0
SUMMARY:Wie kommt die Mobilitätswende in die Kommunen?
UID:82bc8701-d5ed-4642-8de5-5283938483dd
URL:https://touren-termine.adfc.de/radveranstaltung/105696-wie-kommt-die-m
 obilitatswende-in-die-kommunen
END:VEVENT
END:VCALENDAR
