BEGIN:VCALENDAR
PRODID:-//github.com/rianjs/ical.net//NONSGML ical.net 4.0//EN
VERSION:2.0
BEGIN:VEVENT
DESCRIPTION:Fahrsicherheitstraining für Erwachsene. Auffrischung und Train
 ing der praktischen Grundkenntnisse der Fahrtechnik.\nAnmeldeschluss: Fr 
 28.06.2024. Mit Infostand und Fahrradcodierung\nhttps://touren-termine.ad
 fc.de/radveranstaltung/134971-fahrsicherheitstraining-1-grundkurs-in-buch
 loe
DTEND:20240629T110000Z
DTSTAMP:20260419T124417Z
DTSTART:20240629T080000Z
LOCATION:Kerschenstreiner Str. 6\, 86807 Buchloe\, 86807 Buchloe
SEQUENCE:0
SUMMARY:Fahrsicherheitstraining  - 1. Grundkurs in Buchloe
UID:d91161a3-2dc2-481e-bb37-c75169434b1a
URL:https://touren-termine.adfc.de/radveranstaltung/134971-fahrsicherheits
 training-1-grundkurs-in-buchloe
END:VEVENT
END:VCALENDAR
