BEGIN:VCALENDAR
PRODID:-//github.com/rianjs/ical.net//NONSGML ical.net 4.0//EN
VERSION:2.0
BEGIN:VEVENT
DESCRIPTION: Rundtour über Sulzberg und Schwarzenberg mit Einkehr am Wildb
 erger Hof und zurück nach Kempten\nhttps://touren-termine.adfc.de/radvera
 nstaltung/191269-aussichtsreiche-allgaurunde-mit-einkehr
DTEND:20260620T150000Z
DTSTAMP:20260424T151012Z
DTSTART:20260620T080000Z
LOCATION:Hildegardplatz 3\, 87435 Kempten (Allgäu)
SEQUENCE:0
SUMMARY:Aussichtsreiche Allgäu-Runde mit Einkehr
UID:21bf18e8-6f8f-418d-876b-8bd7ccb0f8fc
URL:https://touren-termine.adfc.de/radveranstaltung/191269-aussichtsreiche
 -allgaurunde-mit-einkehr
END:VEVENT
END:VCALENDAR
