BEGIN:VCALENDAR
PRODID:-//github.com/rianjs/ical.net//NONSGML ical.net 4.0//EN
VERSION:2.0
BEGIN:VEVENT
DESCRIPTION:Jeden Mittwoch vom 1.4. bis zum 31.8.2026\nStart 18.oo am Rath
 aus Gbw\, ca 30km\nhttps://touren-termine.adfc.de/radveranstaltung/192741
 -kurztour
DTEND:20260701T180000Z
DTSTAMP:20260423T182659Z
DTSTART:20260701T160000Z
LOCATION:Fuhrberger Straße 4\, 30938 Burgwedel
SEQUENCE:0
SUMMARY:Kurztour
UID:031cedc2-c916-485e-8914-61f08716c647
URL:https://touren-termine.adfc.de/radveranstaltung/192741-kurztour
END:VEVENT
END:VCALENDAR
