BEGIN:VCALENDAR
PRODID:-//github.com/rianjs/ical.net//NONSGML ical.net 4.0//EN
VERSION:2.0
BEGIN:VEVENT
DESCRIPTION:Niemand ist perfekt\, das Radwegesystem in Cuxhaven schon gar 
 nicht!\nWir unterhalten uns über alle Dinge rund ums Fahrrad und nehmen W
 ünsche und Anregungen an.\nhttps://touren-termine.adfc.de/radveranstaltun
 g/142271-kaffeestunde
DTEND:20251013T150000Z
DTSTAMP:20260421T022728Z
DTSTART:20251013T130000Z
LOCATION:Bürgerbahnhof\, Am Bahnhof 1\, 27472 Cuxhaven
SEQUENCE:0
SUMMARY:Kaffeestunde
UID:36fc11be-0a6f-4c12-a12d-a2c5b89ca7d1
URL:https://touren-termine.adfc.de/radveranstaltung/142271-kaffeestunde
END:VEVENT
END:VCALENDAR
