BEGIN:VCALENDAR
PRODID:-//github.com/rianjs/ical.net//NONSGML ical.net 4.0//EN
VERSION:2.0
BEGIN:VEVENT
DESCRIPTION:Das Ziel der Tour wird zu Beginn bekanntgegeben. Anschließend 
 Gelegenheit zur gemeinsamen Einkehr.\nhttps://touren-termine.adfc.de/radv
 eranstaltung/184597-feierabendtour
DTEND:20260619T180000Z
DTSTAMP:20260421T100958Z
DTSTART:20260619T160000Z
LOCATION:Hoher Rain 27\, kath. Kirche Rheidt\, 53859 Niederkassel
SEQUENCE:0
SUMMARY:Feierabendtour
UID:01c4606c-047d-4e45-8fac-4ffa73767db5
URL:https://touren-termine.adfc.de/radveranstaltung/184597-feierabendtour
END:VEVENT
END:VCALENDAR
