BEGIN:VCALENDAR
PRODID:-//github.com/rianjs/ical.net//NONSGML ical.net 4.0//EN
VERSION:2.0
BEGIN:VEVENT
DESCRIPTION:Jeden Montag findet morgens eine Radtour statt.\nhttps://toure
 n-termine.adfc.de/radveranstaltung/171659-montag-morgen-tour
DTEND:20250915T100000Z
DTSTAMP:20260423T201046Z
DTSTART:20250915T080000Z
LOCATION:In der Ahe 29\, 27356 Rotenburg
SEQUENCE:0
SUMMARY:Montag Morgen Tour
UID:51054616-932f-413d-8b0f-a187d1ff4644
URL:https://touren-termine.adfc.de/radveranstaltung/171659-montag-morgen-t
 our
END:VEVENT
END:VCALENDAR
