BEGIN:VCALENDAR
PRODID:-//github.com/rianjs/ical.net//NONSGML ical.net 4.0//EN
VERSION:2.0
BEGIN:VEVENT
DESCRIPTION:Diese Tour richtet sich an sportliche Radler/innen\, die gerne
  in der Gruppe mit zügigem Tempo fahren und Anstiege nicht scheuen.\nhttp
 s://touren-termine.adfc.de/radveranstaltung/197694-sportliches-radeln-in-
 nrw
DTEND;VALUE=DATE:20270313
DTSTAMP:20260423T065605Z
DTSTART;VALUE=DATE:20270313
LOCATION:Berghausener Straße\, 40764 Langenfeld (Rheinland)
SEQUENCE:0
SUMMARY:Sportliches Radeln in NRW
UID:2ddff0ea-4833-413d-a1b7-d13d433b9c3f
URL:https://touren-termine.adfc.de/radveranstaltung/197694-sportliches-rad
 eln-in-nrw
END:VEVENT
END:VCALENDAR
