BEGIN:VCALENDAR
PRODID:-//github.com/rianjs/ical.net//NONSGML ical.net 4.0//EN
VERSION:2.0
BEGIN:VEVENT
DESCRIPTION:Monatlicher Stammtisch von interessierten Radlerinnen und Radl
 ern. Jeweils am letzten Dienstag im \nMonat\nhttps://touren-termine.adfc.
 de/radveranstaltung/96233-radlertreff-des-adfc-hamburg
DTEND:20230829T210000Z
DTSTAMP:20260421T025520Z
DTSTART:20230829T170000Z
LOCATION:Gasthaus Quartier 21\, Fuhlsbüttler Straße 405\, 22309 Hamburg
SEQUENCE:0
SUMMARY:Radlertreff des ADFC Hamburg
UID:dae88cbb-66b4-45db-a2ad-88f295808d01
URL:https://touren-termine.adfc.de/radveranstaltung/96233-radlertreff-des-
 adfc-hamburg
END:VEVENT
END:VCALENDAR
