BEGIN:VCALENDAR
PRODID:-//github.com/rianjs/ical.net//NONSGML ical.net 4.0//EN
VERSION:2.0
BEGIN:VEVENT
DESCRIPTION:Wir sind dieses Jahr am 07.03.2026 zwischen 11:00 Uhr und 13:0
 0 Uhr am "Grünzug Zangenstraße" aktiv.\nKomm gerne dazu und hilf mit :-)\
 nhttps://touren-termine.adfc.de/radveranstaltung/190276-sauberzauber-2026
 -der-adfc-essen-ist-dabei
DTEND:20260307T120000Z
DTSTAMP:20260421T102449Z
DTSTART:20260307T100000Z
LOCATION:Rad- & Fußweg "Grünzug Zangenstraße" (Zugang Bäuminghausstraße) N
 ähe Hs.-Nr. 157\, 45326 Essen
SEQUENCE:0
SUMMARY:Sauberzauber 2026 - der ADFC Essen ist dabei
UID:b0190a23-7123-42d1-90cb-199d5eece1ab
URL:https://touren-termine.adfc.de/radveranstaltung/190276-sauberzauber-20
 26-der-adfc-essen-ist-dabei
END:VEVENT
END:VCALENDAR
