BEGIN:VCALENDAR
PRODID:-//github.com/rianjs/ical.net//NONSGML ical.net 4.0//EN
VERSION:2.0
BEGIN:VEVENT
DESCRIPTION:Von Schwabthal geht`s wieder von Brauerei zu Brauerei Richtung
  Bahnhof Bamberg\nhttps://touren-termine.adfc.de/radveranstaltung/125027-
 brauereitour-franken-tag-2
DTEND:20240804T180000Z
DTSTAMP:20260421T102906Z
DTSTART:20240804T073000Z
LOCATION:Schwabthal 3\, 96231 Bad Staffelstein
SEQUENCE:0
SUMMARY:Brauereitour Franken (Tag 2)
UID:00711596-c4f3-494a-b6d6-479408443b9b
URL:https://touren-termine.adfc.de/radveranstaltung/125027-brauereitour-fr
 anken-tag-2
END:VEVENT
END:VCALENDAR
