BEGIN:VCALENDAR
PRODID:-//github.com/rianjs/ical.net//NONSGML ical.net 4.0//EN
VERSION:2.0
BEGIN:VEVENT
DESCRIPTION:Mehrtagestour. Eine Reise für radsportbegeisterte\, trainierte
  und abenteuerlustige Radler*innen. Geboten wird Seeluft\, radeln\, Bäume
  besteigen\, Fährfahrten und Fahrten mit der DB. Neugierig geworden??\nht
 tps://touren-termine.adfc.de/radveranstaltung/179044-fahrmann-hol-uber
DTEND:20261005T200000Z
DTSTAMP:20260424T214416Z
DTSTART:20261002T030000Z
LOCATION:Berlin Hauptbahnhof\, Servicepoint Washingtonplatz\, 10557 Berlin
SEQUENCE:0
SUMMARY:Fährmann! Hol' über....
UID:5e999af7-8d00-46c3-9444-25651cd6acc9
URL:https://touren-termine.adfc.de/radveranstaltung/179044-fahrmann-hol-ub
 er
END:VEVENT
END:VCALENDAR
