BEGIN:VCALENDAR
PRODID:-//github.com/rianjs/ical.net//NONSGML ical.net 4.0//EN
VERSION:2.0
BEGIN:VEVENT
DESCRIPTION:Einladung zum Radelstammtisch in Olpe\nhttps://touren-termine.
 adfc.de/radveranstaltung/141492-adfcstammtisch-olpe
DTEND:20241112T200000Z
DTSTAMP:20260423T031247Z
DTSTART:20241112T173000Z
LOCATION:Kolpinghaus\, Kolpingstraße 14\, 57462 Olpe
SEQUENCE:0
SUMMARY:ADFC-Stammtisch Olpe
UID:554e4848-f9d4-4d4f-b2f0-d71213eed815
URL:https://touren-termine.adfc.de/radveranstaltung/141492-adfcstammtisch-
 olpe
END:VEVENT
END:VCALENDAR
