BEGIN:VCALENDAR
PRODID:-//github.com/rianjs/ical.net//NONSGML ical.net 4.0//EN
VERSION:2.0
BEGIN:VEVENT
DESCRIPTION:Am 16.04.2025 leitete Peter Marka als Tourleiter im ADFC Kaufb
 euren-OAL seine allerletzte Radtour. \nIn Memoriam seiner großen Verdiens
 te für unseren Verein erinnern wir uns an Peter mit dieser Tour.\nhttps:/
 /touren-termine.adfc.de/radveranstaltung/184429-petermarkagedachtnistour-
 zum-windrad-krahmoos
DTEND:20260416T180000Z
DTSTAMP:20260419T192824Z
DTSTART:20260416T150000Z
LOCATION:Bahnhofstraße\, 87600 Kaufbeuren
SEQUENCE:0
SUMMARY:Peter-Marka-Gedächtnis-Tour zum Windrad Krähmoos
UID:2069e3d3-0f21-4d5e-9404-e1e8c2382cc8
URL:https://touren-termine.adfc.de/radveranstaltung/184429-petermarkagedac
 htnistour-zum-windrad-krahmoos
END:VEVENT
END:VCALENDAR
