BEGIN:VCALENDAR
PRODID:-//github.com/rianjs/ical.net//NONSGML ical.net 4.0//EN
VERSION:2.0
BEGIN:VEVENT
DESCRIPTION:Schöne Radtour auf der Trasse der alten Hohenstaufenbahn nach 
 Schw. Gmünd und dann im Remstal nach Schorndorf\nhttps://touren-termine.a
 dfc.de/radveranstaltung/175841-radtour-von-goppingen-nach-schorndorf
DTEND:20260124T150000Z
DTSTAMP:20260424T144709Z
DTSTART:20260124T075000Z
LOCATION:Kegelenstraße 12\, 70372 Stuttgart
SEQUENCE:0
SUMMARY:Radtour von Göppingen nach Schorndorf
UID:11064bbf-5697-40bf-a854-336447a35d00
URL:https://touren-termine.adfc.de/radveranstaltung/175841-radtour-von-gop
 pingen-nach-schorndorf
END:VEVENT
END:VCALENDAR
