BEGIN:VCALENDAR
PRODID:-//github.com/rianjs/ical.net//NONSGML ical.net 4.0//EN
VERSION:2.0
BEGIN:VEVENT
DESCRIPTION:Kennenlerntour durch Stuttgarter Stadtteile\nhttps://touren-te
 rmine.adfc.de/radveranstaltung/129551-fahrradstadtteiltour-untere-neckarv
 ororte
DTEND:20240525T150000Z
DTSTAMP:20260424T144531Z
DTSTART:20240525T120000Z
LOCATION:Neckartalstraße 317\, 70376 Stuttgart
SEQUENCE:0
SUMMARY:Fahrrad-Stadtteiltour Untere Neckarvororte
UID:23261520-8c30-4177-97ca-14cb041a3cf9
URL:https://touren-termine.adfc.de/radveranstaltung/129551-fahrradstadttei
 ltour-untere-neckarvororte
END:VEVENT
END:VCALENDAR
